Package: REBET Version: 1.25.0 Command: /home/biocbuild/bbs-3.21-bioc/R/bin/R CMD INSTALL REBET StartedAt: 2025-01-31 16:02:07 -0500 (Fri, 31 Jan 2025) EndedAt: 2025-01-31 16:02:13 -0500 (Fri, 31 Jan 2025) EllapsedTime: 6.2 seconds RetCode: 0 Status: OK