Package: RBioFormats Version: 1.7.0 Command: /Library/Frameworks/R.framework/Resources/bin/R CMD INSTALL RBioFormats StartedAt: 2025-01-31 15:22:23 -0500 (Fri, 31 Jan 2025) EndedAt: 2025-01-31 15:22:35 -0500 (Fri, 31 Jan 2025) EllapsedTime: 12.6 seconds RetCode: 0 Status: OK