Package: RBioFormats Version: 1.7.0 Command: /Library/Frameworks/R.framework/Resources/bin/R CMD check --install=check:RBioFormats.install-out.txt --library=/Library/Frameworks/R.framework/Resources/library --no-vignettes --timings RBioFormats_1.7.0.tar.gz StartedAt: 2025-01-31 22:29:38 -0500 (Fri, 31 Jan 2025) EndedAt: 2025-01-31 22:31:07 -0500 (Fri, 31 Jan 2025) EllapsedTime: 89.6 seconds RetCode: 0 Status: OK CheckDir: RBioFormats.Rcheck Warnings: 0