Package: QuartPAC Version: 1.39.0 Command: rm -rf QuartPAC.buildbin-libdir && mkdir QuartPAC.buildbin-libdir && /Users/biocbuild/BBS/utils/build-universal.sh QuartPAC_1.39.0.tar.gz /Library/Frameworks/R.framework/Resources/bin/R QuartPAC.buildbin-libdir StartedAt: 2025-01-31 22:28:09 -0500 (Fri, 31 Jan 2025) EndedAt: 2025-01-31 22:28:16 -0500 (Fri, 31 Jan 2025) EllapsedTime: 7.1 seconds RetCode: 0 Status: OK PackageFile: QuartPAC_1.39.0.tgz PackageFileSize: 646.7 KiB