Package: QSutils Version: 1.25.0 Command: /home/biocbuild/R/R/bin/R CMD check --install=check:QSutils.install-out.txt --library=/home/biocbuild/R/R/site-library --no-vignettes --timings QSutils_1.25.0.tar.gz StartedAt: 2025-01-28 14:12:22 -0000 (Tue, 28 Jan 2025) EndedAt: 2025-01-28 14:14:26 -0000 (Tue, 28 Jan 2025) EllapsedTime: 124.1 seconds RetCode: 0 Status: OK CheckDir: QSutils.Rcheck Warnings: 0