Package: QSutils Version: 1.25.0 Command: /Library/Frameworks/R.framework/Resources/bin/R CMD check --install=check:QSutils.install-out.txt --library=/Library/Frameworks/R.framework/Resources/library --no-vignettes --timings QSutils_1.25.0.tar.gz StartedAt: 2025-01-31 20:52:05 -0500 (Fri, 31 Jan 2025) EndedAt: 2025-01-31 20:52:37 -0500 (Fri, 31 Jan 2025) EllapsedTime: 32.3 seconds RetCode: 0 Status: OK CheckDir: QSutils.Rcheck Warnings: 0