Package: ProteoMM Version: 1.25.0 Command: /home/biocbuild/bbs-3.21-bioc/R/bin/R CMD INSTALL ProteoMM StartedAt: 2025-01-31 15:32:42 -0500 (Fri, 31 Jan 2025) EndedAt: 2025-01-31 15:32:47 -0500 (Fri, 31 Jan 2025) EllapsedTime: 5.3 seconds RetCode: 0 Status: OK