Package: Prostar Version: 1.39.0 Command: /Library/Frameworks/R.framework/Resources/bin/R CMD build --keep-empty-dirs --no-resave-data Prostar StartedAt: 2025-01-31 17:18:57 -0500 (Fri, 31 Jan 2025) EndedAt: 2025-01-31 17:19:15 -0500 (Fri, 31 Jan 2025) EllapsedTime: 18.2 seconds RetCode: 0 Status: OK PackageFile: Prostar_1.39.0.tar.gz PackageFileSize: 4.262 MiB