Package: Pigengene Version: 1.33.0 Command: /home/biocbuild/bbs-3.21-bioc/R/bin/R CMD check --install=check:Pigengene.install-out.txt --library=/home/biocbuild/bbs-3.21-bioc/R/site-library --timings Pigengene_1.33.0.tar.gz StartedAt: 2025-02-01 01:14:54 -0500 (Sat, 01 Feb 2025) EndedAt: 2025-02-01 01:28:00 -0500 (Sat, 01 Feb 2025) EllapsedTime: 786.2 seconds RetCode: 0 Status: OK CheckDir: Pigengene.Rcheck Warnings: 0