Package: Pigengene Version: 1.33.0 Command: /home/biocbuild/bbs-3.21-bioc/R/bin/R CMD build --keep-empty-dirs --no-resave-data Pigengene StartedAt: 2025-01-31 18:41:49 -0500 (Fri, 31 Jan 2025) EndedAt: 2025-01-31 18:44:52 -0500 (Fri, 31 Jan 2025) EllapsedTime: 182.3 seconds RetCode: 0 Status: OK PackageFile: Pigengene_1.33.0.tar.gz PackageFileSize: 2.697 MiB