Package: PepSetTest Version: 1.1.0 Command: rm -rf PepSetTest.buildbin-libdir && mkdir PepSetTest.buildbin-libdir && E:\biocbuild\bbs-3.21-bioc\R\bin\R.exe CMD INSTALL --build --library=PepSetTest.buildbin-libdir PepSetTest_1.1.0.tar.gz StartedAt: 2025-02-01 07:52:19 -0500 (Sat, 01 Feb 2025) EndedAt: 2025-02-01 07:52:39 -0500 (Sat, 01 Feb 2025) EllapsedTime: 20.2 seconds RetCode: 0 Status: OK PackageFile: PepSetTest_1.1.0.zip PackageFileSize: 320.5 KiB