Package: PepSetTest Version: 1.1.0 Command: /Library/Frameworks/R.framework/Resources/bin/R CMD INSTALL PepSetTest StartedAt: 2025-01-31 15:14:09 -0500 (Fri, 31 Jan 2025) EndedAt: 2025-01-31 15:14:13 -0500 (Fri, 31 Jan 2025) EllapsedTime: 4.0 seconds RetCode: 0 Status: OK