Package: PathNet Version: 1.47.0 Command: E:\biocbuild\bbs-3.21-bioc\R\bin\R.exe CMD INSTALL PathNet StartedAt: 2025-01-31 15:21:00 -0500 (Fri, 31 Jan 2025) EndedAt: 2025-01-31 15:21:08 -0500 (Fri, 31 Jan 2025) EllapsedTime: 7.8 seconds RetCode: 0 Status: OK