Package: PathNet Version: 1.47.0 Command: /Library/Frameworks/R.framework/Resources/bin/R CMD check --install=check:PathNet.install-out.txt --library=/Library/Frameworks/R.framework/Resources/library --no-vignettes --timings PathNet_1.47.0.tar.gz StartedAt: 2025-01-31 22:07:58 -0500 (Fri, 31 Jan 2025) EndedAt: 2025-01-31 22:09:30 -0500 (Fri, 31 Jan 2025) EllapsedTime: 91.4 seconds RetCode: 0 Status: OK CheckDir: PathNet.Rcheck Warnings: 0