Package: Path2PPI Version: 1.37.0 Command: /home/biocbuild/bbs-3.21-bioc/R/bin/R CMD check --install=check:Path2PPI.install-out.txt --library=/home/biocbuild/bbs-3.21-bioc/R/site-library --timings Path2PPI_1.37.0.tar.gz StartedAt: 2025-02-01 01:06:25 -0500 (Sat, 01 Feb 2025) EndedAt: 2025-02-01 01:07:16 -0500 (Sat, 01 Feb 2025) EllapsedTime: 51.1 seconds RetCode: 0 Status: OK CheckDir: Path2PPI.Rcheck Warnings: 0