Package: Path2PPI Version: 1.37.0 Command: /home/biocbuild/bbs-3.21-bioc/R/bin/R CMD build --keep-empty-dirs --no-resave-data Path2PPI StartedAt: 2025-01-31 18:37:37 -0500 (Fri, 31 Jan 2025) EndedAt: 2025-01-31 18:37:56 -0500 (Fri, 31 Jan 2025) EllapsedTime: 19.1 seconds RetCode: 0 Status: OK PackageFile: Path2PPI_1.37.0.tar.gz PackageFileSize: 1.392 MiB