Package: Path2PPI Version: 1.37.0 Command: /Library/Frameworks/R.framework/Resources/bin/R CMD check --install=check:Path2PPI.install-out.txt --library=/Library/Frameworks/R.framework/Resources/library --no-vignettes --timings Path2PPI_1.37.0.tar.gz StartedAt: 2025-01-31 22:07:53 -0500 (Fri, 31 Jan 2025) EndedAt: 2025-01-31 22:09:20 -0500 (Fri, 31 Jan 2025) EllapsedTime: 87.3 seconds RetCode: 0 Status: OK CheckDir: Path2PPI.Rcheck Warnings: 0