Package: Path2PPI Version: 1.37.0 Command: /home/biocbuild/R/R/bin/R CMD INSTALL Path2PPI StartedAt: 2025-01-29 19:32:09 -0000 (Wed, 29 Jan 2025) EndedAt: 2025-01-29 19:32:29 -0000 (Wed, 29 Jan 2025) EllapsedTime: 20.4 seconds RetCode: 0 Status: OK