Package: Path2PPI Version: 1.37.0 Command: /home/biocbuild/R/R/bin/R CMD check --install=check:Path2PPI.install-out.txt --library=/home/biocbuild/R/R/site-library --no-vignettes --timings Path2PPI_1.37.0.tar.gz StartedAt: 2025-01-28 13:45:17 -0000 (Tue, 28 Jan 2025) EndedAt: 2025-01-28 13:46:14 -0000 (Tue, 28 Jan 2025) EllapsedTime: 57.1 seconds RetCode: 0 Status: OK CheckDir: Path2PPI.Rcheck Warnings: 0