Package: PanViz Version: 1.9.1 Command: E:\biocbuild\bbs-3.21-bioc\R\bin\R.exe CMD INSTALL PanViz StartedAt: 2025-01-31 15:32:32 -0500 (Fri, 31 Jan 2025) EndedAt: 2025-01-31 15:32:52 -0500 (Fri, 31 Jan 2025) EllapsedTime: 20.0 seconds RetCode: 0 Status: OK