Package: PIUMA Version: 1.3.0 Command: E:\biocbuild\bbs-3.21-bioc\R\bin\R.exe CMD check --no-multiarch --install=check:PIUMA.install-out.txt --library=E:\biocbuild\bbs-3.21-bioc\R\library --no-vignettes --timings PIUMA_1.3.0.tar.gz StartedAt: 2025-02-01 03:46:21 -0500 (Sat, 01 Feb 2025) EndedAt: 2025-02-01 03:50:22 -0500 (Sat, 01 Feb 2025) EllapsedTime: 241.4 seconds RetCode: 0 Status: WARNINGS CheckDir: PIUMA.Rcheck Warnings: 1