Package: PIUMA Version: 1.3.0 Command: rm -rf PIUMA.buildbin-libdir && mkdir PIUMA.buildbin-libdir && E:\biocbuild\bbs-3.21-bioc\R\bin\R.exe CMD INSTALL --build --library=PIUMA.buildbin-libdir PIUMA_1.3.0.tar.gz StartedAt: 2025-02-01 07:53:45 -0500 (Sat, 01 Feb 2025) EndedAt: 2025-02-01 07:54:27 -0500 (Sat, 01 Feb 2025) EllapsedTime: 42.3 seconds RetCode: 0 Status: OK PackageFile: PIUMA_1.3.0.zip PackageFileSize: 2.833 MiB