Package: PIPETS Version: 1.3.0 Command: /home/biocbuild/bbs-3.21-bioc/R/bin/R CMD check --install=check:PIPETS.install-out.txt --library=/home/biocbuild/bbs-3.21-bioc/R/site-library --timings PIPETS_1.3.0.tar.gz StartedAt: 2025-02-01 01:15:15 -0500 (Sat, 01 Feb 2025) EndedAt: 2025-02-01 01:16:39 -0500 (Sat, 01 Feb 2025) EllapsedTime: 84.1 seconds RetCode: 0 Status: OK CheckDir: PIPETS.Rcheck Warnings: 0