Package: PIPETS Version: 1.3.0 Command: /Library/Frameworks/R.framework/Resources/bin/R CMD INSTALL PIPETS StartedAt: 2025-01-31 15:14:17 -0500 (Fri, 31 Jan 2025) EndedAt: 2025-01-31 15:14:33 -0500 (Fri, 31 Jan 2025) EllapsedTime: 16.2 seconds RetCode: 0 Status: OK