Package: PING Version: 2.51.0 Command: /home/biocbuild/bbs-3.21-bioc/R/bin/R CMD build --keep-empty-dirs --no-resave-data PING StartedAt: 2025-01-31 18:41:52 -0500 (Fri, 31 Jan 2025) EndedAt: 2025-01-31 18:41:54 -0500 (Fri, 31 Jan 2025) EllapsedTime: 2.0 seconds RetCode: 0 Status: OK PackageFile: PING_2.51.0.tar.gz PackageFileSize: 4.51 MiB