Package: PCAN Version: 1.35.0 Command: /Library/Frameworks/R.framework/Resources/bin/R CMD check --install=check:PCAN.install-out.txt --library=/Library/Frameworks/R.framework/Resources/library --no-vignettes --timings PCAN_1.35.0.tar.gz StartedAt: 2025-01-31 22:09:20 -0500 (Fri, 31 Jan 2025) EndedAt: 2025-01-31 22:13:55 -0500 (Fri, 31 Jan 2025) EllapsedTime: 275.5 seconds RetCode: 0 Status: OK CheckDir: PCAN.Rcheck Warnings: 0