Package: Oscope Version: 1.37.0 Command: /Library/Frameworks/R.framework/Resources/bin/R CMD INSTALL Oscope StartedAt: 2025-01-31 15:18:42 -0500 (Fri, 31 Jan 2025) EndedAt: 2025-01-31 15:18:45 -0500 (Fri, 31 Jan 2025) EllapsedTime: 2.7 seconds RetCode: 0 Status: OK