Package: Oscope Version: 1.37.0 Command: /Library/Frameworks/R.framework/Resources/bin/R CMD build --keep-empty-dirs --no-resave-data Oscope StartedAt: 2025-01-31 17:12:15 -0500 (Fri, 31 Jan 2025) EndedAt: 2025-01-31 17:13:11 -0500 (Fri, 31 Jan 2025) EllapsedTime: 55.6 seconds RetCode: 0 Status: OK PackageFile: Oscope_1.37.0.tar.gz PackageFileSize: 1.159 MiB