Package: Omixer Version: 1.17.0 Command: chmod a+r Omixer -R && E:\biocbuild\bbs-3.21-bioc\R\bin\R.exe CMD build --keep-empty-dirs --no-resave-data Omixer StartedAt: 2025-01-31 20:14:22 -0500 (Fri, 31 Jan 2025) EndedAt: 2025-01-31 20:16:09 -0500 (Fri, 31 Jan 2025) EllapsedTime: 107.1 seconds RetCode: 0 Status: OK PackageFile: Omixer_1.17.0.tar.gz PackageFileSize: 1.277 MiB