Package: OmaDB Version: 2.23.0 Command: rm -rf OmaDB.buildbin-libdir && mkdir OmaDB.buildbin-libdir && /Users/biocbuild/BBS/utils/build-universal.sh OmaDB_2.23.0.tar.gz /Library/Frameworks/R.framework/Resources/bin/R OmaDB.buildbin-libdir StartedAt: 2025-02-01 00:29:55 -0500 (Sat, 01 Feb 2025) EndedAt: 2025-02-01 00:30:20 -0500 (Sat, 01 Feb 2025) EllapsedTime: 25.3 seconds RetCode: 0 Status: OK PackageFile: OmaDB_2.23.0.tgz PackageFileSize: 177.8 KiB