Package: OmaDB Version: 2.23.0 Command: /home/biocbuild/R/R/bin/R CMD build --keep-empty-dirs --no-resave-data OmaDB StartedAt: 2025-01-29 00:56:41 -0000 (Wed, 29 Jan 2025) EndedAt: 2025-01-29 00:57:22 -0000 (Wed, 29 Jan 2025) EllapsedTime: 41.1 seconds RetCode: 0 Status: OK PackageFile: OmaDB_2.23.0.tar.gz PackageFileSize: 98.82 KiB