Package: OLINgui Version: 1.81.0 Command: E:\biocbuild\bbs-3.21-bioc\R\bin\R.exe CMD INSTALL OLINgui StartedAt: 2025-01-31 15:27:40 -0500 (Fri, 31 Jan 2025) EndedAt: 2025-01-31 15:27:47 -0500 (Fri, 31 Jan 2025) EllapsedTime: 7.6 seconds RetCode: 0 Status: OK