Package: OLINgui Version: 1.81.0 Command: chmod a+r OLINgui -R && E:\biocbuild\bbs-3.21-bioc\R\bin\R.exe CMD build --keep-empty-dirs --no-resave-data OLINgui StartedAt: 2025-01-31 20:13:24 -0500 (Fri, 31 Jan 2025) EndedAt: 2025-01-31 20:13:41 -0500 (Fri, 31 Jan 2025) EllapsedTime: 16.5 seconds RetCode: 0 Status: OK PackageFile: OLINgui_1.81.0.tar.gz PackageFileSize: 234.7 KiB