Package: NormqPCR Version: 1.53.0 Command: /Library/Frameworks/R.framework/Resources/bin/R CMD check --install=check:NormqPCR.install-out.txt --library=/Library/Frameworks/R.framework/Resources/library --no-vignettes --timings NormqPCR_1.53.0.tar.gz StartedAt: 2025-01-31 21:55:05 -0500 (Fri, 31 Jan 2025) EndedAt: 2025-01-31 21:56:41 -0500 (Fri, 31 Jan 2025) EllapsedTime: 96.3 seconds RetCode: 0 Status: OK CheckDir: NormqPCR.Rcheck Warnings: 0