Package: NormqPCR Version: 1.53.0 Command: /Library/Frameworks/R.framework/Resources/bin/R CMD INSTALL NormqPCR StartedAt: 2025-01-31 15:17:48 -0500 (Fri, 31 Jan 2025) EndedAt: 2025-01-31 15:17:52 -0500 (Fri, 31 Jan 2025) EllapsedTime: 3.5 seconds RetCode: 0 Status: OK