Package: NeuCA Version: 1.13.0 Command: /home/biocbuild/bbs-3.21-bioc/R/bin/R CMD build --keep-empty-dirs --no-resave-data NeuCA StartedAt: 2025-01-31 18:27:07 -0500 (Fri, 31 Jan 2025) EndedAt: 2025-01-31 18:28:23 -0500 (Fri, 31 Jan 2025) EllapsedTime: 76.1 seconds RetCode: 1 Status: ERROR PackageFile: None PackageFileSize: NA