Package: NanoTube Version: 1.13.1 Command: /Library/Frameworks/R.framework/Resources/bin/R CMD build --keep-empty-dirs --no-resave-data NanoTube StartedAt: 2025-01-31 17:07:48 -0500 (Fri, 31 Jan 2025) EndedAt: 2025-01-31 17:08:05 -0500 (Fri, 31 Jan 2025) EllapsedTime: 17.2 seconds RetCode: 0 Status: OK PackageFile: NanoTube_1.13.1.tar.gz PackageFileSize: 2.006 MiB