Package: NanoStringDiff Version: 1.37.0 Command: /Library/Frameworks/R.framework/Resources/bin/R CMD check --install=check:NanoStringDiff.install-out.txt --library=/Library/Frameworks/R.framework/Resources/library --no-vignettes --timings NanoStringDiff_1.37.0.tar.gz StartedAt: 2025-02-02 21:54:41 -0500 (Sun, 02 Feb 2025) EndedAt: 2025-02-02 21:56:40 -0500 (Sun, 02 Feb 2025) EllapsedTime: 119.0 seconds RetCode: 0 Status: WARNINGS CheckDir: NanoStringDiff.Rcheck Warnings: 1