Package: NOISeq Version: 2.51.0 Command: /home/biocbuild/bbs-3.21-bioc/R/bin/R CMD check --install=check:NOISeq.install-out.txt --library=/home/biocbuild/bbs-3.21-bioc/R/site-library --timings NOISeq_2.51.0.tar.gz StartedAt: 2025-02-01 00:43:54 -0500 (Sat, 01 Feb 2025) EndedAt: 2025-02-01 00:46:03 -0500 (Sat, 01 Feb 2025) EllapsedTime: 129.1 seconds RetCode: 0 Status: OK CheckDir: NOISeq.Rcheck Warnings: 0