Package: MultiBaC Version: 1.17.0 Command: /home/biocbuild/bbs-3.21-bioc/R/bin/R CMD check --install=check:MultiBaC.install-out.txt --library=/home/biocbuild/bbs-3.21-bioc/R/site-library --timings MultiBaC_1.17.0.tar.gz StartedAt: 2025-02-03 00:29:28 -0500 (Mon, 03 Feb 2025) EndedAt: 2025-02-03 00:32:41 -0500 (Mon, 03 Feb 2025) EllapsedTime: 193.3 seconds RetCode: 0 Status: OK CheckDir: MultiBaC.Rcheck Warnings: 0