Package: MsQuality Version: 1.7.1 Command: rm -rf MsQuality.buildbin-libdir && mkdir MsQuality.buildbin-libdir && /Users/biocbuild/BBS/utils/build-universal.sh MsQuality_1.7.1.tar.gz /Library/Frameworks/R.framework/Resources/bin/R MsQuality.buildbin-libdir StartedAt: 2025-01-31 22:24:28 -0500 (Fri, 31 Jan 2025) EndedAt: 2025-01-31 22:24:43 -0500 (Fri, 31 Jan 2025) EllapsedTime: 14.3 seconds RetCode: 0 Status: OK PackageFile: MsQuality_1.7.1.tgz PackageFileSize: 4.384 MiB