Package: MsCoreUtils Version: 1.19.0 Command: E:\biocbuild\bbs-3.21-bioc\R\bin\R.exe CMD INSTALL MsCoreUtils StartedAt: 2025-01-31 15:25:13 -0500 (Fri, 31 Jan 2025) EndedAt: 2025-01-31 15:25:51 -0500 (Fri, 31 Jan 2025) EllapsedTime: 37.9 seconds RetCode: 0 Status: OK