Package: MsBackendSql Version: 1.7.3 Command: /Library/Frameworks/R.framework/Resources/bin/R CMD INSTALL MsBackendSql StartedAt: 2025-02-02 15:13:18 -0500 (Sun, 02 Feb 2025) EndedAt: 2025-02-02 15:13:37 -0500 (Sun, 02 Feb 2025) EllapsedTime: 18.8 seconds RetCode: 0 Status: OK