Package: MsBackendSql Version: 1.7.3 Command: /Library/Frameworks/R.framework/Resources/bin/R CMD build --keep-empty-dirs --no-resave-data MsBackendSql StartedAt: 2025-01-31 17:29:59 -0500 (Fri, 31 Jan 2025) EndedAt: 2025-01-31 17:31:44 -0500 (Fri, 31 Jan 2025) EllapsedTime: 105.1 seconds RetCode: 0 Status: OK PackageFile: MsBackendSql_1.7.3.tar.gz PackageFileSize: 340.6 KiB