Package: MsBackendSql Version: 1.7.3 Command: /home/biocbuild/R/R/bin/R CMD INSTALL MsBackendSql StartedAt: 2025-01-29 19:45:53 -0000 (Wed, 29 Jan 2025) EndedAt: 2025-01-29 19:46:12 -0000 (Wed, 29 Jan 2025) EllapsedTime: 18.8 seconds RetCode: 0 Status: OK