Package: MotifDb Version: 1.49.0 Command: /home/biocbuild/bbs-3.21-bioc/R/bin/R CMD check --install=check:MotifDb.install-out.txt --library=/home/biocbuild/bbs-3.21-bioc/R/site-library --timings MotifDb_1.49.0.tar.gz StartedAt: 2025-02-03 00:15:46 -0500 (Mon, 03 Feb 2025) EndedAt: 2025-02-03 00:21:39 -0500 (Mon, 03 Feb 2025) EllapsedTime: 353.4 seconds RetCode: 0 Status: WARNINGS CheckDir: MotifDb.Rcheck Warnings: 2