Package: MotifDb Version: 1.49.0 Command: /home/biocbuild/bbs-3.21-bioc/R/bin/R CMD build --keep-empty-dirs --no-resave-data MotifDb StartedAt: 2025-02-02 18:10:54 -0500 (Sun, 02 Feb 2025) EndedAt: 2025-02-02 18:11:54 -0500 (Sun, 02 Feb 2025) EllapsedTime: 60.0 seconds RetCode: 0 Status: OK PackageFile: MotifDb_1.49.0.tar.gz PackageFileSize: 3.237 MiB