Package: Motif2Site Version: 1.11.0 Command: /home/biocbuild/R/R/bin/R CMD build --keep-empty-dirs --no-resave-data Motif2Site StartedAt: 2025-01-29 00:32:15 -0000 (Wed, 29 Jan 2025) EndedAt: 2025-01-29 00:37:02 -0000 (Wed, 29 Jan 2025) EllapsedTime: 287.1 seconds RetCode: 0 Status: OK PackageFile: Motif2Site_1.11.0.tar.gz PackageFileSize: 1.37 MiB