Package: MicrobiotaProcess Version: 1.19.0 Command: /home/biocbuild/R/R/bin/R CMD INSTALL MicrobiotaProcess StartedAt: 2025-01-29 20:20:11 -0000 (Wed, 29 Jan 2025) EndedAt: 2025-01-29 20:21:42 -0000 (Wed, 29 Jan 2025) EllapsedTime: 91.3 seconds RetCode: 0 Status: OK