Package: Mfuzz Version: 2.67.0 Command: /Library/Frameworks/R.framework/Resources/bin/R CMD build --keep-empty-dirs --no-resave-data Mfuzz StartedAt: 2025-01-31 17:19:43 -0500 (Fri, 31 Jan 2025) EndedAt: 2025-01-31 17:20:02 -0500 (Fri, 31 Jan 2025) EllapsedTime: 19.4 seconds RetCode: 0 Status: OK PackageFile: Mfuzz_2.67.0.tar.gz PackageFileSize: 819.3 KiB